BEGIN:VCALENDAR
VERSION:2.0
PRODID:-//Unterfränkischer Schachverband e.V. - ECPv6.15.20//NONSGML v1.0//EN
CALSCALE:GREGORIAN
METHOD:PUBLISH
X-WR-CALNAME:Unterfränkischer Schachverband e.V.
X-ORIGINAL-URL:https://www.ufra-schach.de
X-WR-CALDESC:Veranstaltungen für Unterfränkischer Schachverband e.V.
REFRESH-INTERVAL;VALUE=DURATION:PT1H
X-Robots-Tag:noindex
X-PUBLISHED-TTL:PT1H
BEGIN:VTIMEZONE
TZID:Europe/Berlin
BEGIN:DAYLIGHT
TZOFFSETFROM:+0100
TZOFFSETTO:+0200
TZNAME:CEST
DTSTART:20230326T010000
END:DAYLIGHT
BEGIN:STANDARD
TZOFFSETFROM:+0200
TZOFFSETTO:+0100
TZNAME:CET
DTSTART:20231029T010000
END:STANDARD
BEGIN:DAYLIGHT
TZOFFSETFROM:+0100
TZOFFSETTO:+0200
TZNAME:CEST
DTSTART:20240331T010000
END:DAYLIGHT
BEGIN:STANDARD
TZOFFSETFROM:+0200
TZOFFSETTO:+0100
TZNAME:CET
DTSTART:20241027T010000
END:STANDARD
BEGIN:DAYLIGHT
TZOFFSETFROM:+0100
TZOFFSETTO:+0200
TZNAME:CEST
DTSTART:20250330T010000
END:DAYLIGHT
BEGIN:STANDARD
TZOFFSETFROM:+0200
TZOFFSETTO:+0100
TZNAME:CET
DTSTART:20251026T010000
END:STANDARD
END:VTIMEZONE
BEGIN:VEVENT
DTSTART;VALUE=DATE:20240509
DTEND;VALUE=DATE:20240513
DTSTAMP:20260424T214803
CREATED:20240410T120832Z
LAST-MODIFIED:20240410T120832Z
UID:7649-1715212800-1715558399@www.ufra-schach.de
SUMMARY:Würzburger Schachfestival 2024
DESCRIPTION:
URL:https://www.ufra-schach.de/termin/wuerzburger-schachfestival-2024/
LOCATION:Albert-Schweitzer-Haus\, Friedricht-Ebert-Ring 27\, Würzburg\, 97070\, Deutschland
END:VEVENT
BEGIN:VEVENT
DTSTART;TZID=Europe/Berlin:20240510T180000
DTEND;TZID=Europe/Berlin:20240510T220000
DTSTAMP:20260424T214803
CREATED:20240313T124553Z
LAST-MODIFIED:20240313T124553Z
UID:7524-1715364000-1715378400@www.ufra-schach.de
SUMMARY:Alzenau spielt Schach
DESCRIPTION:
URL:https://www.ufra-schach.de/termin/alzenau-spielt-schach/
LOCATION:Alte Post\, Burgstraße 9\, Alzenau\, 63755
END:VEVENT
BEGIN:VEVENT
DTSTART;VALUE=DATE:20240517
DTEND;VALUE=DATE:20240523
DTSTAMP:20260424T214803
CREATED:20240410T121300Z
LAST-MODIFIED:20240410T121300Z
UID:7651-1715904000-1716422399@www.ufra-schach.de
SUMMARY:12. "kleines" ufr. Schachfestival
DESCRIPTION:
URL:https://www.ufra-schach.de/termin/12-kleines-ufr-schachfestival/
END:VEVENT
BEGIN:VEVENT
DTSTART;TZID=Europe/Berlin:20240518T200000
DTEND;TZID=Europe/Berlin:20240519T080000
DTSTAMP:20260424T214803
CREATED:20240410T121939Z
LAST-MODIFIED:20250112T144550Z
UID:7654-1716062400-1716105600@www.ufra-schach.de
SUMMARY:Rock meets Chess 2024
DESCRIPTION:
URL:https://www.ufra-schach.de/termin/rock-meets-chess-2024/
LOCATION:Schützenhaus\, Promenadenstraße 14\, Bad Neustadt/Saale-Herschfeld\, 97616
END:VEVENT
BEGIN:VEVENT
DTSTART;VALUE=DATE:20240530
DTEND;VALUE=DATE:20240603
DTSTAMP:20260424T214803
CREATED:20240410T122124Z
LAST-MODIFIED:20240410T122124Z
UID:7656-1717027200-1717372799@www.ufra-schach.de
SUMMARY:32. Schweinfurt Open
DESCRIPTION:
URL:https://www.ufra-schach.de/termin/32-schweinfurt-open/
LOCATION:Spinnmühle\, Gutermann-Promenade 1\, Schweinfurt\, 97421\, Deutschland
END:VEVENT
BEGIN:VEVENT
DTSTART;TZID=Europe/Berlin:20240530T193000
DTEND;TZID=Europe/Berlin:20240530T220000
DTSTAMP:20260424T214803
CREATED:20220816T063549Z
LAST-MODIFIED:20240202T184312Z
UID:7260-1717097400-1717106400@www.ufra-schach.de
SUMMARY:Schachklub 1929 Mainaschaff e.V.  Schnellschach-Monatsturnier Mai 2024
DESCRIPTION:Zugangsbeschreibung für unseren Klubraum unter: www.sk-mainaschaff.de.\nDas Turnier findet monatlich jeweils am letzten Donnerstag statt .
URL:https://www.ufra-schach.de/termin/schachklub-1929-mainaschaff-e-v-schnellschach-monatsturnier-august-2022-2-2-2-2-2-2-2-2-2-2-2-2-2-2-2-2-2/
LOCATION:Maintalhalle Mainaschaff\, Jahnstraße 50\, Mainaschaff\, 63814\, Deutschland
END:VEVENT
END:VCALENDAR