BEGIN:VCALENDAR
VERSION:2.0
PRODID:-//Unterfränkischer Schachverband e.V. - ECPv6.15.20//NONSGML v1.0//EN
CALSCALE:GREGORIAN
METHOD:PUBLISH
X-WR-CALNAME:Unterfränkischer Schachverband e.V.
X-ORIGINAL-URL:https://www.ufra-schach.de
X-WR-CALDESC:Veranstaltungen für Unterfränkischer Schachverband e.V.
REFRESH-INTERVAL;VALUE=DURATION:PT1H
X-Robots-Tag:noindex
X-PUBLISHED-TTL:PT1H
BEGIN:VTIMEZONE
TZID:Europe/Berlin
BEGIN:DAYLIGHT
TZOFFSETFROM:+0100
TZOFFSETTO:+0200
TZNAME:CEST
DTSTART:20230326T010000
END:DAYLIGHT
BEGIN:STANDARD
TZOFFSETFROM:+0200
TZOFFSETTO:+0100
TZNAME:CET
DTSTART:20231029T010000
END:STANDARD
BEGIN:DAYLIGHT
TZOFFSETFROM:+0100
TZOFFSETTO:+0200
TZNAME:CEST
DTSTART:20240331T010000
END:DAYLIGHT
BEGIN:STANDARD
TZOFFSETFROM:+0200
TZOFFSETTO:+0100
TZNAME:CET
DTSTART:20241027T010000
END:STANDARD
BEGIN:DAYLIGHT
TZOFFSETFROM:+0100
TZOFFSETTO:+0200
TZNAME:CEST
DTSTART:20250330T010000
END:DAYLIGHT
BEGIN:STANDARD
TZOFFSETFROM:+0200
TZOFFSETTO:+0100
TZNAME:CET
DTSTART:20251026T010000
END:STANDARD
END:VTIMEZONE
BEGIN:VEVENT
DTSTART;VALUE=DATE:20240530
DTEND;VALUE=DATE:20240603
DTSTAMP:20260424T200353
CREATED:20240410T122124Z
LAST-MODIFIED:20240410T122124Z
UID:7656-1717027200-1717372799@www.ufra-schach.de
SUMMARY:32. Schweinfurt Open
DESCRIPTION:
URL:https://www.ufra-schach.de/termin/32-schweinfurt-open/
LOCATION:Spinnmühle\, Gutermann-Promenade 1\, Schweinfurt\, 97421\, Deutschland
END:VEVENT
BEGIN:VEVENT
DTSTART;VALUE=DATE:20240607
DTEND;VALUE=DATE:20240610
DTSTAMP:20260424T200353
CREATED:20240410T122324Z
LAST-MODIFIED:20240410T122324Z
UID:7658-1717718400-1717977599@www.ufra-schach.de
SUMMARY:Zentrale Endrunde der Frauenbundesliga
DESCRIPTION:
URL:https://www.ufra-schach.de/termin/zentrale-endrunde-der-frauenbundesliga/
LOCATION:FrankenTherme\, Am Kurzentrum 1\, Bad Königshofen i. Grabfeld\, 97631\, Deutschland
END:VEVENT
BEGIN:VEVENT
DTSTART;TZID=Europe/Berlin:20240608T100000
DTEND;TZID=Europe/Berlin:20240608T160000
DTSTAMP:20260424T200353
CREATED:20240602T113033Z
LAST-MODIFIED:20240602T113033Z
UID:8052-1717840800-1717862400@www.ufra-schach.de
SUMMARY:25. Meininger Schnellschachturnier
DESCRIPTION:Thüringer Schnellschacheinzelmeisterschaft \n– Wanderpokal des ESV Lok Meiningen \nAusrichter: ESV Lokomotive Meiningen e.V.\, Abteilung SCHACH \nTermin: Samstag\, dem 08.06.2024\, Beginn 10.00 Uhr: Freigabe der Bretter!!! Nachzügler bis spätestens 9.45 Uhr melden (geht nur mit FIDE-ID). \nOrt: Restaurant  „Bombay“ in der Anton-Ullrich-Straße 47 („Oberes Tor“)\, 98617 Meiningen \nMeldung: an Peter Lehmann\, Am Kreuzberg 32\, 98617 Meiningen\nTel. 01522-8983363\neMail: pele@gmx.de \nAuswertung: Das Turnier wird NICHT nach Schnellschach-ELO ausgewertet. \nUm Voranmeldung wird gebeten. \nModus: 7 Runden Schnellschach (bei mehr als 64 Startern 8 Runden) im Schweizer System \nBedenkzeit: 20 min je Spieler und Partie \nPreise: Sieger-Pokal\nPlätze 1-5 Geldpreise\nHeldenpokal für den besten (natürlich nur theoretischen) DWZ-Aufsteiger (Erwachsene)\nJugendpokal\nKinderpokal \nStartgeld: 5 EUR Jugendliche\, 10 EUR Erwachsene\, Barzahlung vor Turnierbeginn. \nStartberechtigt sind alle Schachinteressenten\, eine Mitgliedschaft in einem Verein ist nicht erforderlich (aber die FIDE-ID). \nFalls notwendig und durch die zuständigen Behörden angeordnet\, kann es zur Begrenzung des Teilnehmerfeldes kommen\, möglicherweise auch zur Anwendung entsprechender Hygienemaßnahmen.\nMit der Teilnahme erklären die Spieler dem Veranstalter ihr Einverständnis zu Veröffentlichung von Fotos zum Zwecke der Berichterstattung im Rahmen der Veranstaltung.
URL:https://www.ufra-schach.de/termin/25-meininger-schnellschachturnier/
LOCATION:Restaurant  „Bombay“\, Anton-Ullrich-Straße 47\, Meiningen\, 98617
END:VEVENT
BEGIN:VEVENT
DTSTART;VALUE=DATE:20240616
DTEND;VALUE=DATE:20240617
DTSTAMP:20260424T200353
CREATED:20240410T123418Z
LAST-MODIFIED:20240531T133408Z
UID:7660-1718496000-1718582399@www.ufra-schach.de
SUMMARY:Unterfränkische Schnellschach Einzelmeisterschaft 2024
DESCRIPTION:Im Rahmen des 50jährigen Vereinsjubiläums lädt der Schachclub Sulzbach\nfür den 16.06.2024 zur Unterfränkischen Schnellschach\nEinzelmeisterschaft 2024 ein.\nSpielort ist das Untergeschoß der Main-Spessart-Halle in der Schulstraße\n2 in Sulzbach am Main. \nUm Voranmeldung bis spätestens 14.06. unter\nhttps://forms.gle/wiJMQJekC63cL6eY9 wird gebeten\, da aufgrund der\nräumlichen Begebenheiten die Teilnehmerzahl begrenzt ist. Der\ntagesaktuelle Anmeldestand wird jeweils unter\nhttps://schachclub-sulzbach.de/files/Teilnehmerliste.pdf veröffentlicht.\nEine Anmeldung am Spieltag selbst ist vor Ort bis 09:30 Uhr möglich\,\nsolange die maximale Teilnehmerzahl noch nicht erreicht ist. \nEs gibt Geldpreise für die drei Bestplatzierten zu gewinnen.\nUnmittelbar vor Turnierbeginn wird je nach gemeldetem Teilnehmerfeld\nüber die Einrichtung von Sonderpreisen (zB Damen\, Jugend\, Rating)\nentschieden. \nWeitere Details siehe Ausschreibung:\nhttps://schachclub-sulzbach.de/files/SC_UEM_Turniereinladung.pdf \nWir freuen uns auf Euch!
URL:https://www.ufra-schach.de/termin/unterfraenkische-schnell-einzelmeisterschaft-2024/
LOCATION:TV Halle Sulzbach\, Schulstraße 2\, Sulzbach am Main\, 63834
END:VEVENT
BEGIN:VEVENT
DTSTART;TZID=Europe/Berlin:20240627T193000
DTEND;TZID=Europe/Berlin:20240627T220000
DTSTAMP:20260424T200353
CREATED:20220816T063549Z
LAST-MODIFIED:20240202T184356Z
UID:7262-1719516600-1719525600@www.ufra-schach.de
SUMMARY:Schachklub 1929 Mainaschaff e.V.  Schnellschach-Monatsturnier Juni 2024
DESCRIPTION:Zugangsbeschreibung für unseren Klubraum unter: www.sk-mainaschaff.de.\nDas Turnier findet monatlich jeweils am letzten Donnerstag statt .
URL:https://www.ufra-schach.de/termin/schachklub-1929-mainaschaff-e-v-schnellschach-monatsturnier-august-2022-2-2-2-2-2-2-2-2-2-2-2-2-2-2-2-2-2-2/
LOCATION:Maintalhalle Mainaschaff\, Jahnstraße 50\, Mainaschaff\, 63814\, Deutschland
END:VEVENT
END:VCALENDAR