BEGIN:VCALENDAR
VERSION:2.0
PRODID:-//Unterfränkischer Schachverband e.V. - ECPv6.15.20//NONSGML v1.0//EN
CALSCALE:GREGORIAN
METHOD:PUBLISH
X-ORIGINAL-URL:https://www.ufra-schach.de
X-WR-CALDESC:Veranstaltungen für Unterfränkischer Schachverband e.V.
REFRESH-INTERVAL;VALUE=DURATION:PT1H
X-Robots-Tag:noindex
X-PUBLISHED-TTL:PT1H
BEGIN:VTIMEZONE
TZID:Europe/Berlin
BEGIN:DAYLIGHT
TZOFFSETFROM:+0100
TZOFFSETTO:+0200
TZNAME:CEST
DTSTART:20230326T010000
END:DAYLIGHT
BEGIN:STANDARD
TZOFFSETFROM:+0200
TZOFFSETTO:+0100
TZNAME:CET
DTSTART:20231029T010000
END:STANDARD
BEGIN:DAYLIGHT
TZOFFSETFROM:+0100
TZOFFSETTO:+0200
TZNAME:CEST
DTSTART:20240331T010000
END:DAYLIGHT
BEGIN:STANDARD
TZOFFSETFROM:+0200
TZOFFSETTO:+0100
TZNAME:CET
DTSTART:20241027T010000
END:STANDARD
BEGIN:DAYLIGHT
TZOFFSETFROM:+0100
TZOFFSETTO:+0200
TZNAME:CEST
DTSTART:20250330T010000
END:DAYLIGHT
BEGIN:STANDARD
TZOFFSETFROM:+0200
TZOFFSETTO:+0100
TZNAME:CET
DTSTART:20251026T010000
END:STANDARD
END:VTIMEZONE
BEGIN:VEVENT
DTSTART;VALUE=DATE:20240920
DTEND;VALUE=DATE:20240923
DTSTAMP:20260424T152927
CREATED:20160330T133002Z
LAST-MODIFIED:20240826T144514Z
UID:8571-1726790400-1727049599@www.ufra-schach.de
SUMMARY:21. Forchheimer Sparkassen-Open
DESCRIPTION:
URL:https://www.ufra-schach.de/termin/15-forchheimer-sparkassen-open-2/
LOCATION:Hirtenbachhalle\, Schloßstraße 28\, Heroldsbach\, 91336
END:VEVENT
BEGIN:VEVENT
DTSTART;TZID=Europe/Berlin:20240921T110000
DTEND;TZID=Europe/Berlin:20240921T170000
DTSTAMP:20260424T152927
CREATED:20230914T192805Z
LAST-MODIFIED:20240826T144052Z
UID:8569-1726916400-1726938000@www.ufra-schach.de
SUMMARY:2. Offene Schnellschachmeisterschaft des SC 1928 Mömbris
DESCRIPTION:
URL:https://www.ufra-schach.de/termin/offene-schnellschachmeisterschaft-2023-des-sc-1928-moembris-2/
LOCATION:Dorfhaus Rappach\, Rappach 33a\, Mömbris\, 63776
END:VEVENT
BEGIN:VEVENT
DTSTART;TZID=Europe/Berlin:20240926T193000
DTEND;TZID=Europe/Berlin:20240926T220000
DTSTAMP:20260424T152927
CREATED:20220816T063549Z
LAST-MODIFIED:20240723T182410Z
UID:7268-1727379000-1727388000@www.ufra-schach.de
SUMMARY:Schachklub 1929 Mainaschaff e.V.  Schnellschach-Monatsturnier September 2024
DESCRIPTION:Zugangsbeschreibung für unseren Klubraum unter: www.sk-mainaschaff.de.\nDas Turnier findet monatlich jeweils am letzten Donnerstag statt .
URL:https://www.ufra-schach.de/termin/schachklub-1929-mainaschaff-e-v-schnellschach-monatsturnier-august-2022-2-2-2-2-2-2-2-2-2-2-2-2-2-2-2-2-2-2-2-2-2/
LOCATION:KiZ  Mainaschaff\, Schillerstraße 3\, Mainaschaff\, 63814
END:VEVENT
END:VCALENDAR