BEGIN:VCALENDAR
VERSION:2.0
PRODID:-//Unterfränkischer Schachverband e.V. - ECPv6.15.20//NONSGML v1.0//EN
CALSCALE:GREGORIAN
METHOD:PUBLISH
X-ORIGINAL-URL:https://www.ufra-schach.de
X-WR-CALDESC:Veranstaltungen für Unterfränkischer Schachverband e.V.
REFRESH-INTERVAL;VALUE=DURATION:PT1H
X-Robots-Tag:noindex
X-PUBLISHED-TTL:PT1H
BEGIN:VTIMEZONE
TZID:Europe/Berlin
BEGIN:DAYLIGHT
TZOFFSETFROM:+0100
TZOFFSETTO:+0200
TZNAME:CEST
DTSTART:20230326T010000
END:DAYLIGHT
BEGIN:STANDARD
TZOFFSETFROM:+0200
TZOFFSETTO:+0100
TZNAME:CET
DTSTART:20231029T010000
END:STANDARD
BEGIN:DAYLIGHT
TZOFFSETFROM:+0100
TZOFFSETTO:+0200
TZNAME:CEST
DTSTART:20240331T010000
END:DAYLIGHT
BEGIN:STANDARD
TZOFFSETFROM:+0200
TZOFFSETTO:+0100
TZNAME:CET
DTSTART:20241027T010000
END:STANDARD
BEGIN:DAYLIGHT
TZOFFSETFROM:+0100
TZOFFSETTO:+0200
TZNAME:CEST
DTSTART:20250330T010000
END:DAYLIGHT
BEGIN:STANDARD
TZOFFSETFROM:+0200
TZOFFSETTO:+0100
TZNAME:CET
DTSTART:20251026T010000
END:STANDARD
END:VTIMEZONE
BEGIN:VEVENT
DTSTART;VALUE=DATE:20241006
DTEND;VALUE=DATE:20241007
DTSTAMP:20260424T134533
CREATED:20240901T055827Z
LAST-MODIFIED:20240901T055827Z
UID:8593-1728172800-1728259199@www.ufra-schach.de
SUMMARY:Verbandsrunde - Runde 1
DESCRIPTION:
URL:https://www.ufra-schach.de/termin/verbandsrunde-runde-1/
END:VEVENT
BEGIN:VEVENT
DTSTART;VALUE=DATE:20241007
DTEND;VALUE=DATE:20241008
DTSTAMP:20260424T134533
CREATED:20240906T073600Z
LAST-MODIFIED:20240906T073600Z
UID:8641-1728259200-1728345599@www.ufra-schach.de
SUMMARY:Dähne Pokal Spielkreis Mitte - Gruppe Ost
DESCRIPTION:Ausschreibung Dähne Pokal Mitte 24-25
URL:https://www.ufra-schach.de/termin/daehne-pokal-spielkreis-mitte-gruppe-ost/
LOCATION:Kürnachtalhalle\, Weg zum Sportpl. 8\, Würzburg\, Bayern\, 97076\, Deutschland
END:VEVENT
BEGIN:VEVENT
DTSTART;VALUE=DATE:20241012
DTEND;VALUE=DATE:20241013
DTSTAMP:20260424T134533
CREATED:20240917T170611Z
LAST-MODIFIED:20240917T170611Z
UID:8710-1728691200-1728777599@www.ufra-schach.de
SUMMARY:4. Schweinfurter DWZ-Pokal
DESCRIPTION:
URL:https://www.ufra-schach.de/termin/4-schweinfurter-dwz-pokal/
LOCATION:Spinnmühle\, Gutermann-Promenade 1\, Schweinfurt\, 97421\, Deutschland
END:VEVENT
BEGIN:VEVENT
DTSTART;VALUE=DATE:20241016
DTEND;VALUE=DATE:20241017
DTSTAMP:20260424T134533
CREATED:20240906T073817Z
LAST-MODIFIED:20240906T073817Z
UID:8644-1729036800-1729123199@www.ufra-schach.de
SUMMARY:Dähne Pokal Spielkreis Mitte – Gruppe West
DESCRIPTION:Ausschreibung Dähne Pokal Mitte 24-25
URL:https://www.ufra-schach.de/termin/daehne-pokal-spielkreis-mitte-gruppe-west/
LOCATION:Festhalle Erlenbach\, Wiesenweg 18\, Erlenbach\, 97837
END:VEVENT
BEGIN:VEVENT
DTSTART;VALUE=DATE:20241016
DTEND;VALUE=DATE:20241017
DTSTAMP:20260424T134533
CREATED:20240907T081321Z
LAST-MODIFIED:20240907T081321Z
UID:8650-1729036800-1729123199@www.ufra-schach.de
SUMMARY:Dähne Pokal Spielkreis Spessart-Untermain – Gruppe Nord
DESCRIPTION:Ausschreibung-Daehne-Pokal-SPU-2425
URL:https://www.ufra-schach.de/termin/daehne-pokal-spielkreis-spessart-untermain-gruppe-nord/
LOCATION:Spiellokal SC Königsspringer Alzenau\, Bachstr. 2 / Seniorenheim 5. Etage\, Alzenau\, Bayern\, 63755\, Germany
END:VEVENT
BEGIN:VEVENT
DTSTART;VALUE=DATE:20241018
DTEND;VALUE=DATE:20241019
DTSTAMP:20260424T134533
CREATED:20240907T081556Z
LAST-MODIFIED:20240907T081556Z
UID:8654-1729209600-1729295999@www.ufra-schach.de
SUMMARY:Dähne Pokal Spielkreis Spessart-Untermain - Gruppe Süd
DESCRIPTION:Ausschreibung-Daehne-Pokal-SPU-2425
URL:https://www.ufra-schach.de/termin/daehne-pokal-spielkreis-spessart-untermain-gruppe-sued/
LOCATION:Spiellokal SK 1925 Großwallstadt\, Hauptstr. 23 / Rathaus Dachgeschoss\, Großwallstadt\, Bayern\, 63868\, Germany
END:VEVENT
BEGIN:VEVENT
DTSTART;VALUE=DATE:20241020
DTEND;VALUE=DATE:20241021
DTSTAMP:20260424T134533
CREATED:20240901T055849Z
LAST-MODIFIED:20240901T055849Z
UID:8595-1729382400-1729468799@www.ufra-schach.de
SUMMARY:Verbandsrunde - Runde 2
DESCRIPTION:
URL:https://www.ufra-schach.de/termin/verbandsrunde-runde-2/
END:VEVENT
BEGIN:VEVENT
DTSTART;VALUE=DATE:20241025
DTEND;VALUE=DATE:20241026
DTSTAMP:20260424T134533
CREATED:20241002T091143Z
LAST-MODIFIED:20241002T091404Z
UID:8771-1729814400-1729900799@www.ufra-schach.de
SUMMARY:Dähne Pokal Spielkreis HAR – Gruppe Nord
DESCRIPTION:Ausschreibung Dähne-Pokal 2025
URL:https://www.ufra-schach.de/termin/daehne-pokal-spielkreis-har-gruppe-nord/
LOCATION:Gasthof Helmig (Spiellokal Münnerstadt)\, Meininger Straße 1\, Münnerstadt\, Bayern\, 97702\, Germany
END:VEVENT
BEGIN:VEVENT
DTSTART;VALUE=DATE:20241031
DTEND;VALUE=DATE:20241101
DTSTAMP:20260424T134533
CREATED:20241002T090812Z
LAST-MODIFIED:20241002T090812Z
UID:8766-1730332800-1730419199@www.ufra-schach.de
SUMMARY:Dähne Pokal Spielkreis HAR – Gruppe Süd
DESCRIPTION:Ausschreibung Dähne-Pokal 2025
URL:https://www.ufra-schach.de/termin/daehne-pokal-spielkreis-har-gruppe-sued/
LOCATION:Bibiliothek (Spiellokal Bergrheinfeld)\, Hauptstraße 36\, Bergrheinfeld\, Bayern\, 97493\, Germany
END:VEVENT
BEGIN:VEVENT
DTSTART;VALUE=DATE:20241031
DTEND;VALUE=DATE:20241104
DTSTAMP:20260424T134533
CREATED:20240628T180216Z
LAST-MODIFIED:20240628T180402Z
UID:8123-1730332800-1730678399@www.ufra-schach.de
SUMMARY:2. Freundschachts-Open
DESCRIPTION:Das 2. Freundschachts-Open findet in Schloss Friedberg bei Augsburg vom 31. Oktober bis zum 3. November statt. Das Preisgeld beträgt 3.850 Euro. Wir sorgen für eine nette Atmosphäre und ein schönes Ambiente\, unter anderem mit selbstgekochten Speisen und selbstgebackenem Kuchen.\n\nAlle weiteren Informationen finden sich auf der Turnierwebseite (https://freundschachts-open.de/) und in der Ausschreibung.
URL:https://www.ufra-schach.de/termin/2-freundschachts-open/
LOCATION:Wittelsbacher Schloss Friedberg\, Schlossstraße 21\, Friedberg\, 86316
END:VEVENT
BEGIN:VEVENT
DTSTART;TZID=Europe/Berlin:20241031T193000
DTEND;TZID=Europe/Berlin:20241031T220000
DTSTAMP:20260424T134533
CREATED:20220816T063549Z
LAST-MODIFIED:20240723T182426Z
UID:7272-1730403000-1730412000@www.ufra-schach.de
SUMMARY:Schachklub 1929 Mainaschaff e.V.  Schnellschach-Monatsturnier Oktober 2024
DESCRIPTION:Zugangsbeschreibung für unseren Klubraum unter: www.sk-mainaschaff.de.\nDas Turnier findet monatlich jeweils am letzten Donnerstag statt .
URL:https://www.ufra-schach.de/termin/schachklub-1929-mainaschaff-e-v-schnellschach-monatsturnier-august-2022-2-2-2-2-2-2-2-2-2-2-2-2-2-2-2-2-2-2-2-2-2-3/
LOCATION:KiZ  Mainaschaff\, Schillerstraße 3\, Mainaschaff\, 63814
END:VEVENT
END:VCALENDAR