BEGIN:VCALENDAR
VERSION:2.0
PRODID:-//Unterfränkischer Schachverband e.V. - ECPv6.15.20//NONSGML v1.0//EN
CALSCALE:GREGORIAN
METHOD:PUBLISH
X-WR-CALNAME:Unterfränkischer Schachverband e.V.
X-ORIGINAL-URL:https://www.ufra-schach.de
X-WR-CALDESC:Veranstaltungen für Unterfränkischer Schachverband e.V.
REFRESH-INTERVAL;VALUE=DURATION:PT1H
X-Robots-Tag:noindex
X-PUBLISHED-TTL:PT1H
BEGIN:VTIMEZONE
TZID:Europe/Berlin
BEGIN:DAYLIGHT
TZOFFSETFROM:+0100
TZOFFSETTO:+0200
TZNAME:CEST
DTSTART:20230326T010000
END:DAYLIGHT
BEGIN:STANDARD
TZOFFSETFROM:+0200
TZOFFSETTO:+0100
TZNAME:CET
DTSTART:20231029T010000
END:STANDARD
BEGIN:DAYLIGHT
TZOFFSETFROM:+0100
TZOFFSETTO:+0200
TZNAME:CEST
DTSTART:20240331T010000
END:DAYLIGHT
BEGIN:STANDARD
TZOFFSETFROM:+0200
TZOFFSETTO:+0100
TZNAME:CET
DTSTART:20241027T010000
END:STANDARD
BEGIN:DAYLIGHT
TZOFFSETFROM:+0100
TZOFFSETTO:+0200
TZNAME:CEST
DTSTART:20250330T010000
END:DAYLIGHT
BEGIN:STANDARD
TZOFFSETFROM:+0200
TZOFFSETTO:+0100
TZNAME:CET
DTSTART:20251026T010000
END:STANDARD
END:VTIMEZONE
BEGIN:VEVENT
DTSTART;VALUE=DATE:20241031
DTEND;VALUE=DATE:20241104
DTSTAMP:20260424T121111
CREATED:20240628T180216Z
LAST-MODIFIED:20240628T180402Z
UID:8123-1730332800-1730678399@www.ufra-schach.de
SUMMARY:2. Freundschachts-Open
DESCRIPTION:Das 2. Freundschachts-Open findet in Schloss Friedberg bei Augsburg vom 31. Oktober bis zum 3. November statt. Das Preisgeld beträgt 3.850 Euro. Wir sorgen für eine nette Atmosphäre und ein schönes Ambiente\, unter anderem mit selbstgekochten Speisen und selbstgebackenem Kuchen.\n\nAlle weiteren Informationen finden sich auf der Turnierwebseite (https://freundschachts-open.de/) und in der Ausschreibung.
URL:https://www.ufra-schach.de/termin/2-freundschachts-open/
LOCATION:Wittelsbacher Schloss Friedberg\, Schlossstraße 21\, Friedberg\, 86316
END:VEVENT
BEGIN:VEVENT
DTSTART;TZID=Europe/Berlin:20241102T103000
DTEND;TZID=Europe/Berlin:20241102T170000
DTSTAMP:20260424T121111
CREATED:20231030T171731Z
LAST-MODIFIED:20240826T221043Z
UID:8566-1730543400-1730566800@www.ufra-schach.de
SUMMARY:2. Rainer Hasenstab Gedenkturnier
DESCRIPTION:Ausschreibung
URL:https://www.ufra-schach.de/termin/2-rainer-hasenstab-gedenkturnier/
LOCATION:Das Alte Pfarrhaus\, Am Kirchberg 2\, Sailauf\, 63877
END:VEVENT
BEGIN:VEVENT
DTSTART;VALUE=DATE:20241110
DTEND;VALUE=DATE:20241111
DTSTAMP:20260424T121111
CREATED:20240901T055909Z
LAST-MODIFIED:20240901T055909Z
UID:8597-1731196800-1731283199@www.ufra-schach.de
SUMMARY:Verbandsrunde - Runde 3
DESCRIPTION:
URL:https://www.ufra-schach.de/termin/verbandsrunde-runde-3/
END:VEVENT
BEGIN:VEVENT
DTSTART;VALUE=DATE:20241124
DTEND;VALUE=DATE:20241125
DTSTAMP:20260424T121111
CREATED:20240901T060239Z
LAST-MODIFIED:20240901T060239Z
UID:8611-1732406400-1732492799@www.ufra-schach.de
SUMMARY:4-er Pokal - Runde 1
DESCRIPTION:
URL:https://www.ufra-schach.de/termin/4-er-pokal-runde-1/
END:VEVENT
BEGIN:VEVENT
DTSTART;TZID=Europe/Berlin:20241128T193000
DTEND;TZID=Europe/Berlin:20241128T220000
DTSTAMP:20260424T121111
CREATED:20220816T063549Z
LAST-MODIFIED:20240723T182445Z
UID:7270-1732822200-1732831200@www.ufra-schach.de
SUMMARY:Schachklub 1929 Mainaschaff e.V.  Schnellschach-Monatsturnier November 2024
DESCRIPTION:Zugangsbeschreibung für unseren Klubraum unter: www.sk-mainaschaff.de.\nDas Turnier findet monatlich jeweils am letzten Donnerstag statt .
URL:https://www.ufra-schach.de/termin/schachklub-1929-mainaschaff-e-v-schnellschach-monatsturnier-august-2022-2-2-2-2-2-2-2-2-2-2-2-2-2-2-2-2-2-2-2-2-2-2/
LOCATION:KiZ  Mainaschaff\, Schillerstraße 3\, Mainaschaff\, 63814
END:VEVENT
END:VCALENDAR