BEGIN:VCALENDAR
VERSION:2.0
PRODID:-//Unterfränkischer Schachverband e.V. - ECPv6.15.20//NONSGML v1.0//EN
CALSCALE:GREGORIAN
METHOD:PUBLISH
X-WR-CALNAME:Unterfränkischer Schachverband e.V.
X-ORIGINAL-URL:https://www.ufra-schach.de
X-WR-CALDESC:Veranstaltungen für Unterfränkischer Schachverband e.V.
REFRESH-INTERVAL;VALUE=DURATION:PT1H
X-Robots-Tag:noindex
X-PUBLISHED-TTL:PT1H
BEGIN:VTIMEZONE
TZID:Europe/Berlin
BEGIN:DAYLIGHT
TZOFFSETFROM:+0100
TZOFFSETTO:+0200
TZNAME:CEST
DTSTART:20240331T010000
END:DAYLIGHT
BEGIN:STANDARD
TZOFFSETFROM:+0200
TZOFFSETTO:+0100
TZNAME:CET
DTSTART:20241027T010000
END:STANDARD
BEGIN:DAYLIGHT
TZOFFSETFROM:+0100
TZOFFSETTO:+0200
TZNAME:CEST
DTSTART:20250330T010000
END:DAYLIGHT
BEGIN:STANDARD
TZOFFSETFROM:+0200
TZOFFSETTO:+0100
TZNAME:CET
DTSTART:20251026T010000
END:STANDARD
BEGIN:DAYLIGHT
TZOFFSETFROM:+0100
TZOFFSETTO:+0200
TZNAME:CEST
DTSTART:20260329T010000
END:DAYLIGHT
BEGIN:STANDARD
TZOFFSETFROM:+0200
TZOFFSETTO:+0100
TZNAME:CET
DTSTART:20261025T010000
END:STANDARD
END:VTIMEZONE
BEGIN:VEVENT
DTSTART;VALUE=DATE:20250713
DTEND;VALUE=DATE:20250714
DTSTAMP:20260420T001518
CREATED:20250116T104249Z
LAST-MODIFIED:20250207T163453Z
UID:9293-1752364800-1752451199@www.ufra-schach.de
SUMMARY:Unterfränkische RAPID Einzelmeisterschaft 2025
DESCRIPTION:AUSSCHREIBUNG
URL:https://www.ufra-schach.de/termin/unterfraenkische-rapid-einzelmeisterschaft-2025/
LOCATION:Festhalle Erlenbach\, Wiesenweg 18\, Erlenbach\, 97837
END:VEVENT
BEGIN:VEVENT
DTSTART;VALUE=DATE:20250720
DTEND;VALUE=DATE:20250721
DTSTAMP:20260420T001518
CREATED:20250610T053246Z
LAST-MODIFIED:20250610T053246Z
UID:10471-1752969600-1753055999@www.ufra-schach.de
SUMMARY:Offene Bayerische Schach 960 Meisterschaften
DESCRIPTION:Ausschreibung
URL:https://www.ufra-schach.de/termin/offene-bayerische-schach-960-meisterschaften/
LOCATION:Schützenhaus Herschfeld\, Bad Neustadt
END:VEVENT
BEGIN:VEVENT
DTSTART;VALUE=DATE:20250727
DTEND;VALUE=DATE:20250728
DTSTAMP:20260420T001518
CREATED:20241122T123011Z
LAST-MODIFIED:20250224T174933Z
UID:8985-1753574400-1753660799@www.ufra-schach.de
SUMMARY:Unterfränkische 4-er RAPID Mannschaftsmeisterschaft 2025
DESCRIPTION:AUSSCHREIBUNG
URL:https://www.ufra-schach.de/termin/unterfraenkische-rapid-mannschaftsmeisterschaft-2025/
LOCATION:Thulba
END:VEVENT
BEGIN:VEVENT
DTSTART;TZID=Europe/Berlin:20250731T193000
DTEND;TZID=Europe/Berlin:20250731T220000
DTSTAMP:20260420T001518
CREATED:20220816T063549Z
LAST-MODIFIED:20241229T170129Z
UID:9167-1753990200-1753999200@www.ufra-schach.de
SUMMARY:Schachklub 1929 Mainaschaff e.V.  Schnellschach-Monatsturnier Juli 2025
DESCRIPTION:Zugangsbeschreibung für unseren Klubraum unter: www.sk-mainaschaff.de.\nDas Turnier findet monatlich jeweils am letzten Donnerstag statt .
URL:https://www.ufra-schach.de/termin/schachklub-1929-mainaschaff-e-v-schnellschach-monatsturnier-juli-2025/
LOCATION:KiZ  Mainaschaff\, Schillerstraße 3\, Mainaschaff\, 63814
END:VEVENT
END:VCALENDAR