BEGIN:VCALENDAR
VERSION:2.0
PRODID:-//Unterfränkischer Schachverband e.V. - ECPv6.15.20//NONSGML v1.0//EN
CALSCALE:GREGORIAN
METHOD:PUBLISH
X-WR-CALNAME:Unterfränkischer Schachverband e.V.
X-ORIGINAL-URL:https://www.ufra-schach.de
X-WR-CALDESC:Veranstaltungen für Unterfränkischer Schachverband e.V.
REFRESH-INTERVAL;VALUE=DURATION:PT1H
X-Robots-Tag:noindex
X-PUBLISHED-TTL:PT1H
BEGIN:VTIMEZONE
TZID:Europe/Berlin
BEGIN:DAYLIGHT
TZOFFSETFROM:+0100
TZOFFSETTO:+0200
TZNAME:CEST
DTSTART:20240331T010000
END:DAYLIGHT
BEGIN:STANDARD
TZOFFSETFROM:+0200
TZOFFSETTO:+0100
TZNAME:CET
DTSTART:20241027T010000
END:STANDARD
BEGIN:DAYLIGHT
TZOFFSETFROM:+0100
TZOFFSETTO:+0200
TZNAME:CEST
DTSTART:20250330T010000
END:DAYLIGHT
BEGIN:STANDARD
TZOFFSETFROM:+0200
TZOFFSETTO:+0100
TZNAME:CET
DTSTART:20251026T010000
END:STANDARD
BEGIN:DAYLIGHT
TZOFFSETFROM:+0100
TZOFFSETTO:+0200
TZNAME:CEST
DTSTART:20260329T010000
END:DAYLIGHT
BEGIN:STANDARD
TZOFFSETFROM:+0200
TZOFFSETTO:+0100
TZNAME:CET
DTSTART:20261025T010000
END:STANDARD
END:VTIMEZONE
BEGIN:VEVENT
DTSTART;VALUE=DATE:20250817
DTEND;VALUE=DATE:20250818
DTSTAMP:20260419T223424
CREATED:20250718T145754Z
LAST-MODIFIED:20250722T191022Z
UID:10808-1755388800-1755475199@www.ufra-schach.de
SUMMARY:Schnellschachturnier Aschaffenburg
DESCRIPTION:Anmeldung
URL:https://www.ufra-schach.de/termin/schnellschachturnier-aschaffenburg/
LOCATION:Alter Bahnhof Obernau\, Bahnhofstraße 10\, Aschaffenburg\, Bayern\, 63743\, Deutschland
END:VEVENT
END:VCALENDAR