BEGIN:VCALENDAR
VERSION:2.0
PRODID:-//Unterfränkischer Schachverband e.V. - ECPv6.15.20//NONSGML v1.0//EN
CALSCALE:GREGORIAN
METHOD:PUBLISH
X-WR-CALNAME:Unterfränkischer Schachverband e.V.
X-ORIGINAL-URL:https://www.ufra-schach.de
X-WR-CALDESC:Veranstaltungen für Unterfränkischer Schachverband e.V.
REFRESH-INTERVAL;VALUE=DURATION:PT1H
X-Robots-Tag:noindex
X-PUBLISHED-TTL:PT1H
BEGIN:VTIMEZONE
TZID:Europe/Berlin
BEGIN:DAYLIGHT
TZOFFSETFROM:+0100
TZOFFSETTO:+0200
TZNAME:CEST
DTSTART:20240331T010000
END:DAYLIGHT
BEGIN:STANDARD
TZOFFSETFROM:+0200
TZOFFSETTO:+0100
TZNAME:CET
DTSTART:20241027T010000
END:STANDARD
BEGIN:DAYLIGHT
TZOFFSETFROM:+0100
TZOFFSETTO:+0200
TZNAME:CEST
DTSTART:20250330T010000
END:DAYLIGHT
BEGIN:STANDARD
TZOFFSETFROM:+0200
TZOFFSETTO:+0100
TZNAME:CET
DTSTART:20251026T010000
END:STANDARD
BEGIN:DAYLIGHT
TZOFFSETFROM:+0100
TZOFFSETTO:+0200
TZNAME:CEST
DTSTART:20260329T010000
END:DAYLIGHT
BEGIN:STANDARD
TZOFFSETFROM:+0200
TZOFFSETTO:+0100
TZNAME:CET
DTSTART:20261025T010000
END:STANDARD
END:VTIMEZONE
BEGIN:VEVENT
DTSTART;VALUE=DATE:20251101
DTEND;VALUE=DATE:20251105
DTSTAMP:20260419T175511
CREATED:20250707T160737Z
LAST-MODIFIED:20250707T160759Z
UID:10712-1761955200-1762300799@www.ufra-schach.de
SUMMARY:3. Freundschachts-Open in Schloss Friedberg bei Augsburg
DESCRIPTION:
URL:https://www.ufra-schach.de/termin/3-freundschachts-open-in-schloss-friedberg-bei-augsburg/
LOCATION:Wittelsbacher Schloss Friedberg\, Schlossstraße 21\, Friedberg\, 86316
END:VEVENT
BEGIN:VEVENT
DTSTART;VALUE=DATE:20251109
DTEND;VALUE=DATE:20251110
DTSTAMP:20260419T175511
CREATED:20250405T101158Z
LAST-MODIFIED:20250809T184503Z
UID:9879-1762646400-1762732799@www.ufra-schach.de
SUMMARY:DSB-Pokal Achtelfinale
DESCRIPTION:
URL:https://www.ufra-schach.de/termin/dsb-pokal-achtelfinale/
END:VEVENT
BEGIN:VEVENT
DTSTART;VALUE=DATE:20251116
DTEND;VALUE=DATE:20251117
DTSTAMP:20260419T175511
CREATED:20250405T095805Z
LAST-MODIFIED:20250405T095805Z
UID:9863-1763251200-1763337599@www.ufra-schach.de
SUMMARY:Verbandsrunde - Runde 3
DESCRIPTION:
URL:https://www.ufra-schach.de/termin/verbandsrunde-runde-3-2/
END:VEVENT
BEGIN:VEVENT
DTSTART;VALUE=DATE:20251117
DTEND;VALUE=DATE:20251124
DTSTAMP:20260419T175511
CREATED:20250908T035049Z
LAST-MODIFIED:20250908T185154Z
UID:11289-1763337600-1763942399@www.ufra-schach.de
SUMMARY:Schach Open des Seniorenförderkreises
DESCRIPTION:AUSSCHREIBUNG
URL:https://www.ufra-schach.de/termin/schach-open-des-seniorenfoerderkreises/
LOCATION:Spessart-Forum Bad Soden Salmünster\, Frowin-van-Hutten Str. 5\, Bad Soden Salmünster\, HESSEN\, 63628\, Germany
END:VEVENT
BEGIN:VEVENT
DTSTART;TZID=Europe/Berlin:20251127T193000
DTEND;TZID=Europe/Berlin:20251127T220000
DTSTAMP:20260419T175511
CREATED:20220816T063549Z
LAST-MODIFIED:20241229T170432Z
UID:9175-1764271800-1764280800@www.ufra-schach.de
SUMMARY:Schachklub 1929 Mainaschaff e.V.  Schnellschach-Monatsturnier November 2025
DESCRIPTION:Zugangsbeschreibung für unseren Klubraum unter: www.sk-mainaschaff.de.\nDas Turnier findet monatlich jeweils am letzten Donnerstag statt .
URL:https://www.ufra-schach.de/termin/schachklub-1929-mainaschaff-e-v-schnellschach-monatsturnier-november-2025/
LOCATION:KiZ  Mainaschaff\, Schillerstraße 3\, Mainaschaff\, 63814
END:VEVENT
END:VCALENDAR