BEGIN:VCALENDAR
VERSION:2.0
PRODID:-//Unterfränkischer Schachverband e.V. - ECPv6.15.20//NONSGML v1.0//EN
CALSCALE:GREGORIAN
METHOD:PUBLISH
X-ORIGINAL-URL:https://www.ufra-schach.de
X-WR-CALDESC:Veranstaltungen für Unterfränkischer Schachverband e.V.
REFRESH-INTERVAL;VALUE=DURATION:PT1H
X-Robots-Tag:noindex
X-PUBLISHED-TTL:PT1H
BEGIN:VTIMEZONE
TZID:Europe/Berlin
BEGIN:DAYLIGHT
TZOFFSETFROM:+0100
TZOFFSETTO:+0200
TZNAME:CEST
DTSTART:20240331T010000
END:DAYLIGHT
BEGIN:STANDARD
TZOFFSETFROM:+0200
TZOFFSETTO:+0100
TZNAME:CET
DTSTART:20241027T010000
END:STANDARD
BEGIN:DAYLIGHT
TZOFFSETFROM:+0100
TZOFFSETTO:+0200
TZNAME:CEST
DTSTART:20250330T010000
END:DAYLIGHT
BEGIN:STANDARD
TZOFFSETFROM:+0200
TZOFFSETTO:+0100
TZNAME:CET
DTSTART:20251026T010000
END:STANDARD
BEGIN:DAYLIGHT
TZOFFSETFROM:+0100
TZOFFSETTO:+0200
TZNAME:CEST
DTSTART:20260329T010000
END:DAYLIGHT
BEGIN:STANDARD
TZOFFSETFROM:+0200
TZOFFSETTO:+0100
TZNAME:CET
DTSTART:20261025T010000
END:STANDARD
END:VTIMEZONE
BEGIN:VEVENT
DTSTART;TZID=Europe/Berlin:20251205T200000
DTEND;TZID=Europe/Berlin:20251205T230000
DTSTAMP:20260419T161409
CREATED:20251120T093200Z
LAST-MODIFIED:20251120T093200Z
UID:11703-1764964800-1764975600@www.ufra-schach.de
SUMMARY:Tandemturnier des SC Mömbris
DESCRIPTION:Ausschreibung
URL:https://www.ufra-schach.de/termin/tandemturnier-des-sc-moembris/
LOCATION:Haus St. Michael\, Hofackerstraße 21\, Mömbris\, 63776\, Germany
END:VEVENT
BEGIN:VEVENT
DTSTART;VALUE=DATE:20251207
DTEND;VALUE=DATE:20251208
DTSTAMP:20260419T161409
CREATED:20250405T095859Z
LAST-MODIFIED:20250405T095859Z
UID:9865-1765065600-1765151999@www.ufra-schach.de
SUMMARY:Verbandsrunde - Runde 4
DESCRIPTION:
URL:https://www.ufra-schach.de/termin/verbandsrunde-runde-4-2/
END:VEVENT
BEGIN:VEVENT
DTSTART;VALUE=DATE:20251227
DTEND;VALUE=DATE:20251231
DTSTAMP:20260419T161409
CREATED:20251107T111657Z
LAST-MODIFIED:20251107T111703Z
UID:11636-1766793600-1767139199@www.ufra-schach.de
SUMMARY:22. Bad Königshofener Open
DESCRIPTION:Link zur Veranstalterwebseite: \nAusschreibung SC Bad Königshofen \n 
URL:https://www.ufra-schach.de/termin/22-bad-koenigshofener-open/
LOCATION:Am Kurzentrum 1\, 97631 Bad Königshofen i. Grabfeld
END:VEVENT
BEGIN:VEVENT
DTSTART;TZID=Europe/Berlin:20251228T130000
DTEND;TZID=Europe/Berlin:20251228T200000
DTSTAMP:20260419T161409
CREATED:20251107T110822Z
LAST-MODIFIED:20251107T110822Z
UID:11631-1766926800-1766952000@www.ufra-schach.de
SUMMARY:19. Thereser Schachpokal
DESCRIPTION:Ausschreibung Hauptturnier \nAusschreibung Turnier für Vereinsspieler \n  \nWebseite des Veranstalters: \nhttp://www.therescup.de/portal/sites/04www.therescup.de/start.php
URL:https://www.ufra-schach.de/termin/19-thereser-schachpokal/
LOCATION:Johann-Peter-Wagner Volksschule\, Obertheres
END:VEVENT
BEGIN:VEVENT
DTSTART;TZID=Europe/Berlin:20251228T140000
DTEND;TZID=Europe/Berlin:20251228T220000
DTSTAMP:20260419T161409
CREATED:20251013T193041Z
LAST-MODIFIED:20251103T235148Z
UID:11505-1766930400-1766959200@www.ufra-schach.de
SUMMARY:Schachklub 1929 Mainaschaff e.V. Jürgen Hauck Gedächtnis Schnellschachturnier 2025
DESCRIPTION:7 Runden\, Zeitmodus 15 Minuten plus 5 Sekunden\nAusschreibung unter: www.sk-mainaschaff.de
URL:https://www.ufra-schach.de/termin/schachklub-1929-mainaschaff-e-v-juergen-hauck-gedaechtnis-schnellschachturnier-2022-3/
LOCATION:Maintalhalle Mainaschaff\, Jahnstraße 50\, Mainaschaff\, 63814\, Deutschland
END:VEVENT
END:VCALENDAR